BEGIN:VCALENDAR
VERSION:2.0
PRODID:-//Pope Francis//NONSGML Events//EN
CALSCALE:GREGORIAN
X-WR-CALNAME:Pope Francis - Events
X-ORIGINAL-URL:https://popefrancisprep.org/events/event/
X-WR-CALDESC:Pope Francis - Events
BEGIN:VEVENT
UID:20200829T1805Z-1598724322.67-EO-3256-1@127.0.0.1
STATUS:CONFIRMED
DTSTAMP:20260420T084453Z
CREATED:20200829T134026Z
LAST-MODIFIED:20201023T171645Z
DTSTART;VALUE=DATE:20201108
DTEND;VALUE=DATE:20201109
SUMMARY: Admissions Open House
DESCRIPTION: On-campus tours begin. Visit our Admissions Events page for da
 tes and times. 
X-ALT-DESC;FMTTYPE=text/html: <p>On-campus tours begin. Visit our <a href="
 https://popefrancisprep.org/admissions/open-house-events/">Admissions Event
 s</a> page for dates and times. </p>
CATEGORIES:Admissions
ORGANIZER;CN="Wendy Harrington":MAILTO:wharrington@popefrancisprep.org
URL;VALUE=URI:https://popefrancisprep.org/events/event/admissions-open-hous
 e/
END:VEVENT
BEGIN:VEVENT
UID:20200829T1805Z-1598724322.68-EO-3263-1@127.0.0.1
STATUS:CONFIRMED
DTSTAMP:20260420T084453Z
CREATED:20200829T135138Z
LAST-MODIFIED:20200829T135138Z
DTSTART;VALUE=DATE:20201201
DTEND;VALUE=DATE:20201202
SUMMARY: Admissions Open House
X-ALT-DESC;FMTTYPE=text/html: 
CATEGORIES:Admissions,All School
ORGANIZER;CN="Wendy Harrington":MAILTO:wharrington@popefrancisprep.org
URL;VALUE=URI:https://popefrancisprep.org/events/event/admissions-open-hous
 e-2/
END:VEVENT
BEGIN:VTIMEZONE
TZID:America/New_York
BEGIN:STANDARD
TZOFFSETFROM:-0400
TZOFFSETTO:-0500
DTSTART:20201101T060000
TZNAME:EST
END:STANDARD
END:VTIMEZONE
END:VCALENDAR
